BEGIN:VCALENDAR
VERSION:2.0
PRODID:-//Site officiel de la commune de Habère-Poche - ECPv6.15.17//NONSGML v1.0//EN
CALSCALE:GREGORIAN
METHOD:PUBLISH
X-ORIGINAL-URL:https://habere-poche.fr
X-WR-CALDESC:Évènements pour Site officiel de la commune de Habère-Poche
REFRESH-INTERVAL;VALUE=DURATION:PT1H
X-Robots-Tag:noindex
X-PUBLISHED-TTL:PT1H
BEGIN:VTIMEZONE
TZID:UTC
BEGIN:STANDARD
TZOFFSETFROM:+0000
TZOFFSETTO:+0000
TZNAME:UTC
DTSTART:20200101T000000
END:STANDARD
END:VTIMEZONE
BEGIN:VTIMEZONE
TZID:Europe/Paris
BEGIN:DAYLIGHT
TZOFFSETFROM:+0100
TZOFFSETTO:+0200
TZNAME:CEST
DTSTART:20200329T010000
END:DAYLIGHT
BEGIN:STANDARD
TZOFFSETFROM:+0200
TZOFFSETTO:+0100
TZNAME:CET
DTSTART:20201025T010000
END:STANDARD
BEGIN:DAYLIGHT
TZOFFSETFROM:+0100
TZOFFSETTO:+0200
TZNAME:CEST
DTSTART:20210328T010000
END:DAYLIGHT
BEGIN:STANDARD
TZOFFSETFROM:+0200
TZOFFSETTO:+0100
TZNAME:CET
DTSTART:20211031T010000
END:STANDARD
BEGIN:DAYLIGHT
TZOFFSETFROM:+0100
TZOFFSETTO:+0200
TZNAME:CEST
DTSTART:20220327T010000
END:DAYLIGHT
BEGIN:STANDARD
TZOFFSETFROM:+0200
TZOFFSETTO:+0100
TZNAME:CET
DTSTART:20221030T010000
END:STANDARD
END:VTIMEZONE
BEGIN:VEVENT
DTSTART;VALUE=DATE:20211127
DTEND;VALUE=DATE:20211128
DTSTAMP:20260421T190458
CREATED:20211122T110022Z
LAST-MODIFIED:20211122T113745Z
UID:233-1637971200-1638057599@habere-poche.fr
SUMMARY:Bourse aux skis - SC Villard
DESCRIPTION:
URL:https://habere-poche.fr/event/bourse-aux-skis-sc-villard/
LOCATION:Salle Polyvalente\, 1 place de l'église\, Habère-Poche\, 74420\, France
CATEGORIES:Evènements associations
ATTACH;FMTTYPE=image/jpeg:https://habere-poche.fr/wp-content/uploads/2021/11/bourse-aux-skis.jpg
ORGANIZER;CN="SC villard":MAILTO:scvillard@gmail.com
END:VEVENT
BEGIN:VEVENT
DTSTART;TZID=Europe/Paris:20211127T183000
DTEND;TZID=Europe/Paris:20211127T213000
DTSTAMP:20260421T190458
CREATED:20211127T153524Z
LAST-MODIFIED:20211127T153516Z
UID:108058-1638037800-1638048600@habere-poche.fr
SUMMARY:Assemblée Générale Ski Club Vallée Verte
DESCRIPTION:
URL:https://habere-poche.fr/event/assemblee-generale-ski-club-vallee-verte/
LOCATION:Salle Polyvalente\, 1 place de l'église\, Habère-Poche\, 74420\, France
CATEGORIES:Evènements associations
ATTACH;FMTTYPE=image/jpeg:https://habere-poche.fr/wp-content/uploads/2021/11/AG-ski-1-scaled.jpg
END:VEVENT
END:VCALENDAR